BEGIN:VCALENDAR
VERSION:2.0
PRODID:-//Eventin//Event Calendar//EN
CALSCALE:GREGORIAN
METHOD:PUBLISH
BEGIN:VEVENT
UID:17a20d0b84668928422cafe3f78d74d9@sipa.nu
SUMMARY:SIPA ANNUAL CONFERENCE 2023
DESCRIPTION:Attend SIPA's annual top-level conference for members and speci
 al invited guests. The purpose of the conference is to give the participant
 s new information and new to develop their business further.\n\nThe focus i
 n 2023 is on pan Nordic outlook and opportunities. We will hear presentatio
 ns from Europa Capital\, Hines\, NREP\, and Danske Bank.\n\nThe conference 
 takes place in Copenhagen starting around 12:00\, including dinner in the e
 vening and accommodation for non-Copenhagen members.\n\nSee the program her
 e.
LOCATION:Online
DTSTAMP:20260423T163200Z
DTSTART:20230524T100000Z
DTEND:20260423T200000Z
END:VEVENT
END:VCALENDAR
