BEGIN:VCALENDAR
VERSION:2.0
PRODID:-//Eventin//Event Calendar//EN
CALSCALE:GREGORIAN
METHOD:PUBLISH
BEGIN:VEVENT
UID:01a0bb9294fd87ef476477d99471bae7@sipa.nu
SUMMARY:SIPA COCKTAIL PARTY AT MIPIM 2023
DESCRIPTION:Welcome to our SIPA stand no. P–1·L50 for the traditional SI
 PA cocktail. It will take place on Wednesday 15th March between 4:00 pm 
 – 5.00 pm.\n\nDownload the invitation here.
LOCATION:Online
DTSTAMP:20260423T163456Z
DTSTART:20230315T150000Z
DTEND:20260423T150000Z
END:VEVENT
END:VCALENDAR
