BEGIN:VCALENDAR
VERSION:2.0
PRODID:-//Eventin//Event Calendar//EN
CALSCALE:GREGORIAN
METHOD:PUBLISH
BEGIN:VEVENT
UID:25bdf79f348e328e62173fcf9f76de74@sipa.nu
SUMMARY:SPRING CONFERENCE AND ANNUAL GENERAL MEETING 2022
DESCRIPTION:The focus of 2022 conference is on the future of property inves
 tments\, discussing this with influential Nordic and international property
  investors as well as touching on important issues for property investors s
 uch as financing and sustainability – all in the aftermath of the COVID-1
 9\, the threat of war and with raising inflation.\n\nIngemar Rindstig\, Exe
 cutive Director and Founder of Global Fastighetsanalys AB\, former Executiv
 e Director of EY Real Estate and frequent used speaker on property matters\
 , will moderate the conference.\n\n See the detailed program here.
LOCATION:Stockholm SE-XXX
DTSTAMP:20260423T164340Z
DTSTART:20220518T100000Z
DTEND:20260423T210000Z
END:VEVENT
END:VCALENDAR
