BEGIN:VCALENDAR
VERSION:2.0
PRODID:-//Eventin//Event Calendar//EN
CALSCALE:GREGORIAN
METHOD:PUBLISH
BEGIN:VEVENT
UID:78448d13450de2143d2e023bfc76f141@sipa.nu
SUMMARY:SIPA COCKTAIL PARTY AT MIPIM 2021
DESCRIPTION:Welcome to our SIPA stand no. P–1·L50 for the traditional SI
 PA cocktail. It will take place on Wednesday the 11th of March between 4.00
  – 5.00 pm.\n\nDownload invitation.
LOCATION:1 Boulevard de la Croisette\, 06400 Cannes\, France\, Palais des F
 estivals
DTSTAMP:20260423T162738Z
DTSTART:20220316T150000Z
DTEND:20260423T150000Z
END:VEVENT
END:VCALENDAR
