BEGIN:VCALENDAR
VERSION:2.0
PRODID:-//Eventin//Event Calendar//EN
CALSCALE:GREGORIAN
METHOD:PUBLISH
BEGIN:VEVENT
UID:425a085eb2187318384586effb21d56d@sipa.nu
SUMMARY:NORDIC INVESTOR SUMMIT AT MIPIM 2020
DESCRIPTION:The Nordic Investment summit is a premium closed-door event des
 igned for the key decision makers from the Nordic investment companies\, lo
 cal authorities and International capital holders looking into the Nordic R
 eal Estate market.\n\nThis Summit is by invitation only event limited to 80
  C-level participants and will be held on Wednesday 11 March 2020 from 5:30
  PM to 7:30PM and includes a networking cocktail.\n\nThe Round-seating disc
 ussions format will enable participants to debate the following key topics 
 in an informal and friendly environment: different types and sectors of inv
 estments\, their attractiveness\, latest strategies and partnerships\, futu
 re of retail\, co-working and Proptech investments\, the impact of ESG\, et
 c.\n\nMore details available on the MIPIM website.
LOCATION:Palais des Festivals\, Cannes 06400
DTSTAMP:20260423T162452Z
DTSTART:20200311T163000Z
DTEND:20260423T173000Z
END:VEVENT
END:VCALENDAR
