BEGIN:VCALENDAR
VERSION:2.0
PRODID:-//Eventin//Event Calendar//EN
CALSCALE:GREGORIAN
METHOD:PUBLISH
BEGIN:VEVENT
UID:6b1e30acabc76ceea9f1f03776de66ce@sipa.nu
SUMMARY:SPRING CONFERENCE IN STOCKHOLM 2019
DESCRIPTION:See the program here - Opens in a new Window\n\nThe annual spr
 ing conference takes place in Stockholm.\n\nLocation Mannheimer Swartling\,
  Norrlandsgatan 21\, Stockholm\n\nThe topics of this year's conference are:
 \n\n- Residential market in the Nordic- Challenges and Structural issues\n\
 n- Retail market - New challenges\, new strategies\, consumption trends and
  impact on retail assets.
LOCATION:Mannheimer Swartling - Norrlandsgatan 21 111 43\, Stockholm
DTSTAMP:20260423T163252Z
DTSTART:20190515T100000Z
DTEND:20260423T160000Z
END:VEVENT
END:VCALENDAR
