BEGIN:VCALENDAR
VERSION:2.0
PRODID:-//Eventin//Event Calendar//EN
CALSCALE:GREGORIAN
METHOD:PUBLISH
BEGIN:VEVENT
UID:597b85a0702322fd0e6888a4cca9d918@sipa.nu
SUMMARY:SIPA ANNUAL MEETING AND CONFERENCE 2018
DESCRIPTION:See the program here - Opens in a new window
LOCATION:Kalvebod Brygge 5\, 1560 København V
DTSTAMP:20260423T161513Z
DTSTART:20180424T100000Z
DTEND:20260423T210000Z
END:VEVENT
END:VCALENDAR
