BEGIN:VCALENDAR
VERSION:2.0
PRODID:-//Eventin//Event Calendar//EN
CALSCALE:GREGORIAN
METHOD:PUBLISH
BEGIN:VEVENT
UID:b271d157e42fcd3e0bf983a55667d4fd@sipa.nu
SUMMARY:SIPA COCKTAIL PARTY AT MIPIM
DESCRIPTION:Enlarge picture: SIPA traditional Cocktail party at MIPIM take
 s place at the SIPA stand P-1. L50
LOCATION:1 Boulevard de Croisette\, 0640 Cannes
DTSTAMP:20260423T162759Z
DTSTART:20180314T150000Z
DTEND:20260423T153000Z
END:VEVENT
END:VCALENDAR
