BEGIN:VCALENDAR
VERSION:2.0
PRODID:-//Eventin//Event Calendar//EN
CALSCALE:GREGORIAN
METHOD:PUBLISH
BEGIN:VEVENT
UID:b420beb36cc293083fc9c3f0fe1f6ebe@sipa.nu
SUMMARY:SIPA COCKTAIL PARTY AT MIPIM 2024
DESCRIPTION:Welcome to the SIPA stand no. P–1·L50 for the traditional SI
 PA cocktail. It will take place on Wednesday 13th March between 4:00 pm 
 – 5.00 pm.\n\nMeet all the SIPA members and other interested in the Nor
 dic porperty market.\n\nDownload the invitation here.
LOCATION:1 Boulevard de la Croisette\, 06400 Cannes\, Palais des Festivals
DTSTAMP:20260423T162930Z
DTSTART:20240313T150000Z
DTEND:20260423T150000Z
END:VEVENT
END:VCALENDAR
